BEGIN:VCALENDAR
VERSION:2.0
PRODID:-//ChamberMaster//Event Calendar 2.0//EN
METHOD:PUBLISH
X-PUBLISHED-TTL:P3D
REFRESH-INTERVAL:P3D
CALSCALE:GREGORIAN
BEGIN:VEVENT
DTSTART:20260912T150000Z
DTEND:20260912T190000Z
X-MICROSOFT-CDO-ALLDAYEVENT:FALSE
SUMMARY:2nd Annual Grow the Block
DESCRIPTION:Hosted by: Paris Lamar County Health Department\n\nFree food for attendees.\n\nFamily-friendly food.\n\nLive Music.\n\nA chance for businesses to set up a booth and showcase their services.\n\nDoor prizes to encourage attendance and engagement.
X-ALT-DESC;FMTTYPE=text/html:Hosted by: Paris Lamar County Health Department<br />\nFree food for attendees.<br />\nFamily-friendly food.<br />\nLive Music.<br />\nA chance for businesses to set up a booth and showcase their services.<br />\nDoor prizes to encourage attendance and engagement.&nbsp\;
LOCATION:Pavilion located at the Love Civic Center.
UID:e.1675.20108
SEQUENCE:3
DTSTAMP:20260422T193827Z
URL:http://dev1.paristexas.com/events/details/2nd-annual-grow-the-block-20108
END:VEVENT

END:VCALENDAR
