BEGIN:VCALENDAR
VERSION:2.0
PRODID:-//ChamberMaster//Event Calendar 2.0//EN
METHOD:PUBLISH
X-PUBLISHED-TTL:P3D
REFRESH-INTERVAL:P3D
CALSCALE:GREGORIAN
BEGIN:VEVENT
DTSTART:20260527T163000Z
DTEND:20260527T170000Z
X-MICROSOFT-CDO-ALLDAYEVENT:FALSE
SUMMARY:Josh Williams - Edward Jones Ribbon Cutting
DESCRIPTION:Please join us as we welcome new chamber member\, Josh Williams\, Edward Jones. The ribbon cutting will be held at 2807 Clarksville\,  Paris Texas 75460. Please remember to bring your business cards for this networking opportunity.
X-ALT-DESC;FMTTYPE=text/html:<span style="color: rgb(51\, 51\, 51)\; font-family: sans-serif\, Arial\, Verdana\, &quot\;Trebuchet MS&quot\;\; font-size: 13px\; background-color: rgb(255\, 255\, 255)\;">Please join us as we welcome new chamber member\, Josh Williams\, Edward Jones. The ribbon cutting will be held at 2807 Clarksville\,&nbsp\; Paris Texas 75460. Please remember to bring your business cards for this networking opportunity.&nbsp\;</span>
LOCATION:2807 Clarksville Paris\, TX
UID:e.1675.20109
SEQUENCE:3
DTSTAMP:20260423T025216Z
URL:http://dev1.paristexas.com/events/details/josh-williams-edward-jones-ribbon-cutting-20109
END:VEVENT

END:VCALENDAR
