BEGIN:VCALENDAR
VERSION:2.0
PRODID:-//ChamberMaster//Event Calendar 2.0//EN
METHOD:PUBLISH
X-PUBLISHED-TTL:P3D
REFRESH-INTERVAL:P3D
CALSCALE:GREGORIAN
BEGIN:VEVENT
DTSTART:20260628T230000Z
DTEND:20260629T020000Z
X-MICROSOFT-CDO-ALLDAYEVENT:FALSE
SUMMARY:PTX Con5\, Paris Pop!
DESCRIPTION:
X-ALT-DESC;FMTTYPE=text/html:
LOCATION:Love Civic Center 2025 S. Collegiate Paris\, Texas 75460
UID:e.1675.20106
SEQUENCE:3
DTSTAMP:20260423T005411Z
URL:http://dev1.paristexas.com/events/details/ptx-con5-paris-pop-20106
END:VEVENT

END:VCALENDAR
