BEGIN:VCALENDAR
VERSION:2.0
PRODID:-//ChamberMaster//Event Calendar 2.0//EN
METHOD:PUBLISH
X-PUBLISHED-TTL:P3D
REFRESH-INTERVAL:P3D
CALSCALE:GREGORIAN
BEGIN:VEVENT
DTSTART:20260507T160000Z
DTEND:20260507T163000Z
X-MICROSOFT-CDO-ALLDAYEVENT:FALSE
SUMMARY:The Cove Seafood Ribbon Cutting
DESCRIPTION:Please join us as we welcome new chamber member\, The Cove Seafood. The ribbon cutting will be held at 17 2nd Street\, Paris Texas 75460. Please remember to bring your business cards for this networking opportunity.
X-ALT-DESC;FMTTYPE=text/html:<span style="color: rgb(51\, 51\, 51)\; font-family: sans-serif\, Arial\, Verdana\, &quot\;Trebuchet MS&quot\;\; font-size: 13px\; background-color: rgb(255\, 255\, 255)\;">Please join us as we welcome new chamber member\, The Cove Seafood. The ribbon cutting will be held at 17 2nd Street\, Paris Texas 75460. Please remember to bring your business cards for this networking opportunity.&nbsp\;</span>
LOCATION:17 2nd Street Paris\, TX
UID:e.1675.20103
SEQUENCE:3
DTSTAMP:20260423T025216Z
URL:http://dev1.paristexas.com/events/details/the-cove-seafood-ribbon-cutting-20103
END:VEVENT

END:VCALENDAR
